Package: MPRAnalyze Version: 1.10.0 Command: rm -rf MPRAnalyze.buildbin-libdir && mkdir MPRAnalyze.buildbin-libdir && C:\Users\biocbuild\bbs-3.13-bioc\R\bin\R.exe CMD INSTALL --merge-multiarch --build --library=MPRAnalyze.buildbin-libdir MPRAnalyze_1.10.0.tar.gz StartedAt: 2021-10-15 10:31:55 -0400 (Fri, 15 Oct 2021) EndedAt: 2021-10-15 10:33:09 -0400 (Fri, 15 Oct 2021) EllapsedTime: 74.0 seconds RetCode: 0 Status: OK PackageFile: MPRAnalyze_1.10.0.zip PackageFileSize: 582.5 KiB