git_url: https://git.bioconductor.org/packages/MPFE git_branch: RELEASE_3_13 git_last_commit: 25a44b8 git_last_commit_date: 2021-05-19 12:06:43 -0400 (Wed, 19 May 2021) Package: MPFE Version: 1.28.0 Maintainer: Conrad Burden MaintainerEmail: conrad.burden at anu.edu.au