git_url: https://git.bioconductor.org/packages/MOSim git_branch: RELEASE_3_13 git_last_commit: c168670 git_last_commit_date: 2021-05-19 12:45:41 -0400 (Wed, 19 May 2021) Package: MOSim Version: 1.6.0 Maintainer: Carlos Martínez MaintainerEmail: cmarmir at gmail.com