Package: MOFA2 Version: 1.2.2 Command: C:\Users\biocbuild\bbs-3.13-bioc\R\bin\R.exe --arch x64 CMD INSTALL --no-multiarch MOFA2 StartedAt: 2021-10-14 09:28:50 -0400 (Thu, 14 Oct 2021) EndedAt: 2021-10-14 09:29:40 -0400 (Thu, 14 Oct 2021) EllapsedTime: 50.1 seconds RetCode: 0 Status: OK