Package: MMUPHin Version: 1.6.2 Command: C:\Users\biocbuild\bbs-3.13-bioc\R\bin\R.exe CMD check --force-multiarch --install=check:MMUPHin.install-out.txt --library=C:\Users\biocbuild\bbs-3.13-bioc\R\library --no-vignettes --timings MMUPHin_1.6.2.tar.gz StartedAt: 2021-10-15 02:07:40 -0400 (Fri, 15 Oct 2021) EndedAt: 2021-10-15 02:11:01 -0400 (Fri, 15 Oct 2021) EllapsedTime: 201.0 seconds RetCode: 0 Status: OK CheckDir: MMUPHin.Rcheck Warnings: 0