Package: MMUPHin Version: 1.6.2 Command: /home/biocbuild/bbs-3.13-bioc/R/bin/R CMD INSTALL MMUPHin StartedAt: 2021-10-14 06:35:00 -0400 (Thu, 14 Oct 2021) EndedAt: 2021-10-14 06:35:06 -0400 (Thu, 14 Oct 2021) EllapsedTime: 6.3 seconds RetCode: 0 Status: OK