Package: MMUPHin Version: 1.6.2 Command: /Library/Frameworks/R.framework/Versions/Current/Resources/bin/R CMD INSTALL MMUPHin StartedAt: 2021-10-14 10:22:13 -0400 (Thu, 14 Oct 2021) EndedAt: 2021-10-14 10:22:32 -0400 (Thu, 14 Oct 2021) EllapsedTime: 18.8 seconds RetCode: 0 Status: OK