git_url: https://git.bioconductor.org/packages/MLSeq git_branch: RELEASE_3_13 git_last_commit: 2d28c92 git_last_commit_date: 2021-05-19 12:03:34 -0400 (Wed, 19 May 2021) Package: MLSeq Version: 2.10.0 Maintainer: Gokmen Zararsiz MaintainerEmail: gokmenzararsiz at hotmail.com