Package: MLInterfaces Version: 1.72.0 Command: C:\cygwin\bin\curl.exe -O http://155.52.207.165/BBS/3.13/bioc/src/contrib/MLInterfaces_1.72.0.tar.gz && rm -rf MLInterfaces.buildbin-libdir && mkdir MLInterfaces.buildbin-libdir && C:\Users\biocbuild\bbs-3.13-bioc\R\bin\R.exe CMD INSTALL --merge-multiarch --build --library=MLInterfaces.buildbin-libdir MLInterfaces_1.72.0.tar.gz && C:\Users\biocbuild\bbs-3.13-bioc\R\bin\R.exe CMD INSTALL MLInterfaces_1.72.0.zip && rm MLInterfaces_1.72.0.tar.gz MLInterfaces_1.72.0.zip StartedAt: 2021-10-14 11:17:16 -0400 (Thu, 14 Oct 2021) EndedAt: 2021-10-14 11:17:57 -0400 (Thu, 14 Oct 2021) EllapsedTime: 40.8 seconds RetCode: 0 Status: OK