Package: MLInterfaces Version: 1.72.0 Command: /home/biocbuild/bbs-3.13-bioc/R/bin/R CMD INSTALL MLInterfaces StartedAt: 2021-10-14 06:35:17 -0400 (Thu, 14 Oct 2021) EndedAt: 2021-10-14 06:35:33 -0400 (Thu, 14 Oct 2021) EllapsedTime: 16.5 seconds RetCode: 0 Status: OK