Package: MLInterfaces Version: 1.72.0 Command: /home/biocbuild/bbs-3.13-bioc/R/bin/R CMD check --install=check:MLInterfaces.install-out.txt --library=/home/biocbuild/bbs-3.13-bioc/R/library --no-vignettes --timings MLInterfaces_1.72.0.tar.gz StartedAt: 2021-10-14 10:39:00 -0400 (Thu, 14 Oct 2021) EndedAt: 2021-10-14 10:40:58 -0400 (Thu, 14 Oct 2021) EllapsedTime: 118.4 seconds RetCode: 0 Status: OK CheckDir: MLInterfaces.Rcheck Warnings: 0