Package: MLInterfaces Version: 1.72.0 Command: /home/biocbuild/bbs-3.13-bioc/R/bin/R CMD build --keep-empty-dirs --no-resave-data MLInterfaces StartedAt: 2021-10-14 07:46:11 -0400 (Thu, 14 Oct 2021) EndedAt: 2021-10-14 07:46:52 -0400 (Thu, 14 Oct 2021) EllapsedTime: 41.3 seconds RetCode: 0 Status: OK PackageFile: MLInterfaces_1.72.0.tar.gz PackageFileSize: 1.433 MiB