Package: MLInterfaces Version: 1.72.0 Command: /Library/Frameworks/R.framework/Versions/Current/Resources/bin/R CMD build --keep-empty-dirs --no-resave-data MLInterfaces StartedAt: 2021-10-14 13:18:30 -0400 (Thu, 14 Oct 2021) EndedAt: 2021-10-14 13:19:50 -0400 (Thu, 14 Oct 2021) EllapsedTime: 79.9 seconds RetCode: 0 Status: OK PackageFile: MLInterfaces_1.72.0.tar.gz PackageFileSize: 1.496 MiB