Package: MLInterfaces Version: 1.72.0 Command: rm -rf MLInterfaces.buildbin-libdir && mkdir MLInterfaces.buildbin-libdir && /Users/biocbuild/BBS/utils/build-universal.sh MLInterfaces_1.72.0.tar.gz /Library/Frameworks/R.framework/Versions/Current/Resources/bin/R MLInterfaces.buildbin-libdir StartedAt: 2021-10-15 03:09:10 -0400 (Fri, 15 Oct 2021) EndedAt: 2021-10-15 03:10:15 -0400 (Fri, 15 Oct 2021) EllapsedTime: 64.6 seconds RetCode: 0 Status: OK PackageFile: MLInterfaces_1.72.0.tgz PackageFileSize: 1.848 MiB