git_url: https://git.bioconductor.org/packages/MIRA git_branch: RELEASE_3_13 git_last_commit: ac36885 git_last_commit_date: 2021-05-19 12:30:47 -0400 (Wed, 19 May 2021) Package: MIRA Version: 1.14.0 Maintainer: John Lawson MaintainerEmail: jtl2hk at virginia.edu