Package: MIMOSA Version: 1.30.0 Command: /home/biocbuild/bbs-3.13-bioc/R/bin/R CMD INSTALL MIMOSA StartedAt: 2021-10-14 06:21:27 -0400 (Thu, 14 Oct 2021) EndedAt: 2021-10-14 06:22:07 -0400 (Thu, 14 Oct 2021) EllapsedTime: 39.8 seconds RetCode: 0 Status: OK