Package: MGFR Version: 1.18.0 Command: /Library/Frameworks/R.framework/Versions/Current/Resources/bin/R CMD build --keep-empty-dirs --no-resave-data MGFR StartedAt: 2021-10-14 13:13:55 -0400 (Thu, 14 Oct 2021) EndedAt: 2021-10-14 13:14:56 -0400 (Thu, 14 Oct 2021) EllapsedTime: 61.4 seconds RetCode: 0 Status: OK PackageFile: MGFR_1.18.0.tar.gz PackageFileSize: 1.713 MiB