Package: MGFR Version: 1.18.0 Command: rm -rf MGFR.buildbin-libdir && mkdir MGFR.buildbin-libdir && /Users/biocbuild/BBS/utils/build-universal.sh MGFR_1.18.0.tar.gz /Library/Frameworks/R.framework/Versions/Current/Resources/bin/R MGFR.buildbin-libdir StartedAt: 2021-10-15 03:05:35 -0400 (Fri, 15 Oct 2021) EndedAt: 2021-10-15 03:06:45 -0400 (Fri, 15 Oct 2021) EllapsedTime: 70.0 seconds RetCode: 0 Status: OK PackageFile: MGFR_1.18.0.tgz PackageFileSize: 2.551 MiB