Package: MEIGOR Version: 1.26.0 Command: /home/biocbuild/bbs-3.13-bioc/R/bin/R CMD INSTALL MEIGOR StartedAt: 2021-10-14 06:08:41 -0400 (Thu, 14 Oct 2021) EndedAt: 2021-10-14 06:08:49 -0400 (Thu, 14 Oct 2021) EllapsedTime: 8.6 seconds RetCode: 0 Status: OK