Package: MEIGOR Version: 1.26.0 Command: /Library/Frameworks/R.framework/Versions/Current/Resources/bin/R CMD INSTALL MEIGOR StartedAt: 2021-10-14 08:56:58 -0400 (Thu, 14 Oct 2021) EndedAt: 2021-10-14 08:57:52 -0400 (Thu, 14 Oct 2021) EllapsedTime: 54.0 seconds RetCode: 0 Status: OK