git_url: https://git.bioconductor.org/packages/MEIGOR git_branch: RELEASE_3_13 git_last_commit: c728ace git_last_commit_date: 2021-05-19 12:06:10 -0400 (Wed, 19 May 2021) Package: MEIGOR Version: 1.26.0 Maintainer: Jose A. Egea MaintainerEmail: josea.egea at gmail.com