Package: MEDME Version: 1.52.0 Command: C:\cygwin\bin\curl.exe -O http://155.52.207.165/BBS/3.13/bioc/src/contrib/MEDME_1.52.0.tar.gz && rm -rf MEDME.buildbin-libdir && mkdir MEDME.buildbin-libdir && C:\Users\biocbuild\bbs-3.13-bioc\R\bin\R.exe CMD INSTALL --merge-multiarch --build --library=MEDME.buildbin-libdir MEDME_1.52.0.tar.gz && C:\Users\biocbuild\bbs-3.13-bioc\R\bin\R.exe CMD INSTALL MEDME_1.52.0.zip && rm MEDME_1.52.0.tar.gz MEDME_1.52.0.zip StartedAt: 2021-10-14 10:05:49 -0400 (Thu, 14 Oct 2021) EndedAt: 2021-10-14 10:06:55 -0400 (Thu, 14 Oct 2021) EllapsedTime: 66.8 seconds RetCode: 0 Status: OK