git_url: https://git.bioconductor.org/packages/MEDME git_branch: RELEASE_3_13 git_last_commit: c435a94 git_last_commit_date: 2021-05-19 11:41:43 -0400 (Wed, 19 May 2021) Package: MEDME Version: 1.52.0 Maintainer: Mattia Pelizzola MaintainerEmail: mattia.pelizzola at gmail.com