Package: MEDIPS Version: 1.44.0 Command: chmod a+r MEDIPS -R && C:\Users\biocbuild\bbs-3.13-bioc\R\bin\R.exe CMD build --keep-empty-dirs --no-resave-data MEDIPS StartedAt: 2021-10-14 15:27:52 -0400 (Thu, 14 Oct 2021) EndedAt: 2021-10-14 15:30:00 -0400 (Thu, 14 Oct 2021) EllapsedTime: 128.2 seconds RetCode: 0 Status: OK PackageFile: MEDIPS_1.44.0.tar.gz PackageFileSize: 312.8 KiB