Package: MEB Version: 1.6.0 Command: rm -rf MEB.buildbin-libdir && mkdir MEB.buildbin-libdir && C:\Users\biocbuild\bbs-3.13-bioc\R\bin\R.exe CMD INSTALL --merge-multiarch --build --library=MEB.buildbin-libdir MEB_1.6.0.tar.gz StartedAt: 2021-10-15 10:15:00 -0400 (Fri, 15 Oct 2021) EndedAt: 2021-10-15 10:16:31 -0400 (Fri, 15 Oct 2021) EllapsedTime: 91.4 seconds RetCode: 0 Status: OK PackageFile: MEB_1.6.0.zip PackageFileSize: 1.717 MiB