Package: MBCB Version: 1.46.0 Command: chmod a+r MBCB -R && C:\Users\biocbuild\bbs-3.13-bioc\R\bin\R.exe CMD build --keep-empty-dirs --no-resave-data MBCB StartedAt: 2021-10-14 15:24:42 -0400 (Thu, 14 Oct 2021) EndedAt: 2021-10-14 15:25:06 -0400 (Thu, 14 Oct 2021) EllapsedTime: 23.8 seconds RetCode: 0 Status: OK PackageFile: MBCB_1.46.0.tar.gz PackageFileSize: 364.4 KiB