Package: MBCB Version: 1.46.0 Command: rm -rf MBCB.buildbin-libdir && mkdir MBCB.buildbin-libdir && /Users/biocbuild/BBS/utils/build-universal.sh MBCB_1.46.0.tar.gz /Library/Frameworks/R.framework/Versions/Current/Resources/bin/R MBCB.buildbin-libdir StartedAt: 2021-10-15 02:59:26 -0400 (Fri, 15 Oct 2021) EndedAt: 2021-10-15 03:00:29 -0400 (Fri, 15 Oct 2021) EllapsedTime: 63.4 seconds RetCode: 0 Status: OK PackageFile: MBCB_1.46.0.tgz PackageFileSize: 429.9 KiB