Package: MBASED Version: 1.26.0 Command: /Library/Frameworks/R.framework/Versions/Current/Resources/bin/R CMD build --keep-empty-dirs --no-resave-data MBASED StartedAt: 2021-10-14 13:00:35 -0400 (Thu, 14 Oct 2021) EndedAt: 2021-10-14 13:02:50 -0400 (Thu, 14 Oct 2021) EllapsedTime: 134.9 seconds RetCode: 0 Status: OK PackageFile: MBASED_1.26.0.tar.gz PackageFileSize: 339 KiB