Package: MAST Version: 1.18.0 Command: C:\Users\biocbuild\bbs-3.13-bioc\R\bin\R.exe CMD check --force-multiarch --install=check:MAST.install-out.txt --library=C:\Users\biocbuild\bbs-3.13-bioc\R\library --no-vignettes --timings MAST_1.18.0.tar.gz StartedAt: 2021-10-15 01:24:08 -0400 (Fri, 15 Oct 2021) EndedAt: 2021-10-15 01:31:28 -0400 (Fri, 15 Oct 2021) EllapsedTime: 440.0 seconds RetCode: 0 Status: OK CheckDir: MAST.Rcheck Warnings: 0