Package: MAST Version: 1.18.0 Command: /home/biocbuild/bbs-3.13-bioc/R/bin/R CMD check --install=check:MAST.install-out.txt --library=/home/biocbuild/bbs-3.13-bioc/R/library --no-vignettes --timings MAST_1.18.0.tar.gz StartedAt: 2021-10-14 10:26:57 -0400 (Thu, 14 Oct 2021) EndedAt: 2021-10-14 10:31:12 -0400 (Thu, 14 Oct 2021) EllapsedTime: 254.1 seconds RetCode: 0 Status: OK CheckDir: MAST.Rcheck Warnings: 0