Package: MAST Version: 1.18.0 Command: /home/biocbuild/bbs-3.13-bioc/R/bin/R CMD build --keep-empty-dirs --no-resave-data MAST StartedAt: 2021-10-14 07:38:24 -0400 (Thu, 14 Oct 2021) EndedAt: 2021-10-14 07:44:22 -0400 (Thu, 14 Oct 2021) EllapsedTime: 358.6 seconds RetCode: 0 Status: OK PackageFile: MAST_1.18.0.tar.gz PackageFileSize: 6.416 MiB