Package: MAST Version: 1.18.0 Command: /Library/Frameworks/R.framework/Versions/Current/Resources/bin/R CMD check --install=check:MAST.install-out.txt --library=/Library/Frameworks/R.framework/Versions/Current/Resources/library --no-vignettes --timings MAST_1.18.0.tar.gz StartedAt: 2021-10-14 20:42:06 -0400 (Thu, 14 Oct 2021) EndedAt: 2021-10-14 20:48:22 -0400 (Thu, 14 Oct 2021) EllapsedTime: 375.9 seconds RetCode: 0 Status: OK CheckDir: MAST.Rcheck Warnings: 0