Package: MAST Version: 1.18.0 Command: /Library/Frameworks/R.framework/Versions/Current/Resources/bin/R CMD build --keep-empty-dirs --no-resave-data MAST StartedAt: 2021-10-14 12:59:51 -0400 (Thu, 14 Oct 2021) EndedAt: 2021-10-14 13:07:06 -0400 (Thu, 14 Oct 2021) EllapsedTime: 435.1 seconds RetCode: 0 Status: OK PackageFile: MAST_1.18.0.tar.gz PackageFileSize: 6.406 MiB