Package: MAST Version: 1.18.0 Command: rm -rf MAST.buildbin-libdir && mkdir MAST.buildbin-libdir && /Users/biocbuild/BBS/utils/build-universal.sh MAST_1.18.0.tar.gz /Library/Frameworks/R.framework/Versions/Current/Resources/bin/R MAST.buildbin-libdir StartedAt: 2021-10-15 02:58:43 -0400 (Fri, 15 Oct 2021) EndedAt: 2021-10-15 02:59:47 -0400 (Fri, 15 Oct 2021) EllapsedTime: 63.6 seconds RetCode: 0 Status: OK PackageFile: MAST_1.18.0.tgz PackageFileSize: 7.332 MiB