Package: MANOR Version: 1.64.0 Command: rm -rf MANOR.buildbin-libdir && mkdir MANOR.buildbin-libdir && C:\Users\biocbuild\bbs-3.13-bioc\R\bin\R.exe CMD INSTALL --merge-multiarch --build --library=MANOR.buildbin-libdir MANOR_1.64.0.tar.gz StartedAt: 2021-10-15 10:10:16 -0400 (Fri, 15 Oct 2021) EndedAt: 2021-10-15 10:11:42 -0400 (Fri, 15 Oct 2021) EllapsedTime: 86.3 seconds RetCode: 0 Status: OK PackageFile: MANOR_1.64.0.zip PackageFileSize: 994.9 KiB