Package: MACSQuantifyR Version: 1.6.0 Command: C:\cygwin\bin\curl.exe -O http://155.52.207.165/BBS/3.13/bioc/src/contrib/MACSQuantifyR_1.6.0.tar.gz && rm -rf MACSQuantifyR.buildbin-libdir && mkdir MACSQuantifyR.buildbin-libdir && C:\Users\biocbuild\bbs-3.13-bioc\R\bin\R.exe CMD INSTALL --merge-multiarch --build --library=MACSQuantifyR.buildbin-libdir MACSQuantifyR_1.6.0.tar.gz && C:\Users\biocbuild\bbs-3.13-bioc\R\bin\R.exe CMD INSTALL MACSQuantifyR_1.6.0.zip && rm MACSQuantifyR_1.6.0.tar.gz MACSQuantifyR_1.6.0.zip StartedAt: 2021-10-14 09:05:43 -0400 (Thu, 14 Oct 2021) EndedAt: 2021-10-14 09:06:23 -0400 (Thu, 14 Oct 2021) EllapsedTime: 39.2 seconds RetCode: 0 Status: OK