Package: MACSQuantifyR Version: 1.6.0 Command: rm -rf MACSQuantifyR.buildbin-libdir && mkdir MACSQuantifyR.buildbin-libdir && C:\Users\biocbuild\bbs-3.13-bioc\R\bin\R.exe CMD INSTALL --merge-multiarch --build --library=MACSQuantifyR.buildbin-libdir MACSQuantifyR_1.6.0.tar.gz StartedAt: 2021-10-15 10:09:00 -0400 (Fri, 15 Oct 2021) EndedAt: 2021-10-15 10:10:24 -0400 (Fri, 15 Oct 2021) EllapsedTime: 83.7 seconds RetCode: 0 Status: OK PackageFile: MACSQuantifyR_1.6.0.zip PackageFileSize: 3.395 MiB