Package: MACSQuantifyR Version: 1.6.0 Command: /home/biocbuild/bbs-3.13-bioc/R/bin/R CMD build --keep-empty-dirs --no-resave-data MACSQuantifyR StartedAt: 2021-10-14 07:36:58 -0400 (Thu, 14 Oct 2021) EndedAt: 2021-10-14 07:37:19 -0400 (Thu, 14 Oct 2021) EllapsedTime: 20.4 seconds RetCode: 0 Status: OK PackageFile: MACSQuantifyR_1.6.0.tar.gz PackageFileSize: 3.737 MiB