Package: MACSQuantifyR Version: 1.6.0 Command: /Library/Frameworks/R.framework/Versions/Current/Resources/bin/R CMD check --install=check:MACSQuantifyR.install-out.txt --library=/Library/Frameworks/R.framework/Versions/Current/Resources/library --no-vignettes --timings MACSQuantifyR_1.6.0.tar.gz StartedAt: 2021-10-14 20:36:02 -0400 (Thu, 14 Oct 2021) EndedAt: 2021-10-14 20:37:03 -0400 (Thu, 14 Oct 2021) EllapsedTime: 60.5 seconds RetCode: 0 Status: OK CheckDir: MACSQuantifyR.Rcheck Warnings: 0