git_url: https://git.bioconductor.org/packages/MACSQuantifyR git_branch: RELEASE_3_13 git_last_commit: 2958ed8 git_last_commit_date: 2021-05-19 12:47:43 -0400 (Wed, 19 May 2021) Package: MACSQuantifyR Version: 1.6.0 Maintainer: Raphaƫl Bonnet MaintainerEmail: raphael.bonnet at univ-cotedazur.fr