Package: M3C Version: 1.14.0 Command: chmod a+r M3C -R && C:\Users\biocbuild\bbs-3.13-bioc\R\bin\R.exe CMD build --keep-empty-dirs --no-resave-data M3C StartedAt: 2021-10-14 15:18:33 -0400 (Thu, 14 Oct 2021) EndedAt: 2021-10-14 15:20:31 -0400 (Thu, 14 Oct 2021) EllapsedTime: 117.8 seconds RetCode: 0 Status: OK PackageFile: M3C_1.14.0.tar.gz PackageFileSize: 584.3 KiB