Package: LinkHD Version: 1.6.0 Command: chmod a+r LinkHD -R && C:\Users\biocbuild\bbs-3.13-bioc\R\bin\R.exe CMD build --keep-empty-dirs --no-resave-data LinkHD StartedAt: 2021-10-14 15:15:16 -0400 (Thu, 14 Oct 2021) EndedAt: 2021-10-14 15:16:34 -0400 (Thu, 14 Oct 2021) EllapsedTime: 77.8 seconds RetCode: 0 Status: OK PackageFile: LinkHD_1.6.0.tar.gz PackageFileSize: 1.792 MiB