Package: LinkHD Version: 1.6.0 Command: rm -rf LinkHD.buildbin-libdir && mkdir LinkHD.buildbin-libdir && C:\Users\biocbuild\bbs-3.13-bioc\R\bin\R.exe CMD INSTALL --merge-multiarch --build --library=LinkHD.buildbin-libdir LinkHD_1.6.0.tar.gz StartedAt: 2021-10-15 10:04:54 -0400 (Fri, 15 Oct 2021) EndedAt: 2021-10-15 10:06:25 -0400 (Fri, 15 Oct 2021) EllapsedTime: 91.2 seconds RetCode: 0 Status: OK PackageFile: LinkHD_1.6.0.zip PackageFileSize: 1.553 MiB