Package: LinkHD Version: 1.6.0 Command: /home/biocbuild/bbs-3.13-bioc/R/bin/R CMD build --keep-empty-dirs --no-resave-data LinkHD StartedAt: 2021-10-14 07:35:39 -0400 (Thu, 14 Oct 2021) EndedAt: 2021-10-14 07:36:33 -0400 (Thu, 14 Oct 2021) EllapsedTime: 53.8 seconds RetCode: 0 Status: OK PackageFile: LinkHD_1.6.0.tar.gz PackageFileSize: 2.206 MiB