Package: LinkHD Version: 1.6.0 Command: /Library/Frameworks/R.framework/Versions/Current/Resources/bin/R CMD check --install=check:LinkHD.install-out.txt --library=/Library/Frameworks/R.framework/Versions/Current/Resources/library --no-vignettes --timings LinkHD_1.6.0.tar.gz StartedAt: 2021-10-14 20:29:36 -0400 (Thu, 14 Oct 2021) EndedAt: 2021-10-14 20:33:38 -0400 (Thu, 14 Oct 2021) EllapsedTime: 242.0 seconds RetCode: 0 Status: OK CheckDir: LinkHD.Rcheck Warnings: 0