Package: LinkHD Version: 1.6.0 Command: /Library/Frameworks/R.framework/Versions/Current/Resources/bin/R CMD build --keep-empty-dirs --no-resave-data LinkHD StartedAt: 2021-10-14 12:53:24 -0400 (Thu, 14 Oct 2021) EndedAt: 2021-10-14 12:54:30 -0400 (Thu, 14 Oct 2021) EllapsedTime: 65.8 seconds RetCode: 0 Status: OK PackageFile: LinkHD_1.6.0.tar.gz PackageFileSize: 2.187 MiB