Package: LinkHD Version: 1.6.0 Command: rm -rf LinkHD.buildbin-libdir && mkdir LinkHD.buildbin-libdir && /Users/biocbuild/BBS/utils/build-universal.sh LinkHD_1.6.0.tar.gz /Library/Frameworks/R.framework/Versions/Current/Resources/bin/R LinkHD.buildbin-libdir StartedAt: 2021-10-15 02:53:59 -0400 (Fri, 15 Oct 2021) EndedAt: 2021-10-15 02:55:10 -0400 (Fri, 15 Oct 2021) EllapsedTime: 70.5 seconds RetCode: 0 Status: OK PackageFile: LinkHD_1.6.0.tgz PackageFileSize: 1.898 MiB