Package: LedPred Version: 1.26.0 Command: /home/biocbuild/bbs-3.13-bioc/R/bin/R CMD check --install=check:LedPred.install-out.txt --library=/home/biocbuild/bbs-3.13-bioc/R/library --no-vignettes --timings LedPred_1.26.0.tar.gz StartedAt: 2021-10-14 10:22:03 -0400 (Thu, 14 Oct 2021) EndedAt: 2021-10-14 10:22:49 -0400 (Thu, 14 Oct 2021) EllapsedTime: 46.8 seconds RetCode: 0 Status: OK CheckDir: LedPred.Rcheck Warnings: 0