Package: LPEadj Version: 1.52.0 Command: /Library/Frameworks/R.framework/Versions/Current/Resources/bin/R CMD INSTALL LPEadj StartedAt: 2021-10-14 08:15:27 -0400 (Thu, 14 Oct 2021) EndedAt: 2021-10-14 08:16:20 -0400 (Thu, 14 Oct 2021) EllapsedTime: 53.2 seconds RetCode: 0 Status: OK