Package: LEA Version: 3.4.0 Command: C:\Users\biocbuild\bbs-3.13-bioc\R\bin\R.exe CMD check --force-multiarch --install=check:LEA.install-out.txt --library=C:\Users\biocbuild\bbs-3.13-bioc\R\library --no-vignettes --timings LEA_3.4.0.tar.gz StartedAt: 2021-10-15 01:06:19 -0400 (Fri, 15 Oct 2021) EndedAt: 2021-10-15 01:11:22 -0400 (Fri, 15 Oct 2021) EllapsedTime: 303.3 seconds RetCode: 0 Status: OK CheckDir: LEA.Rcheck Warnings: 0